BEGIN:VCALENDAR
VERSION:2.0
PRODID:-//Bonimusik - St. Bonifatius Wiesbaden - ECPv6.15.20//NONSGML v1.0//EN
CALSCALE:GREGORIAN
METHOD:PUBLISH
X-WR-CALNAME:Bonimusik - St. Bonifatius Wiesbaden
X-ORIGINAL-URL:https://www.bonimusik.de
X-WR-CALDESC:Veranstaltungen für Bonimusik - St. Bonifatius Wiesbaden
REFRESH-INTERVAL;VALUE=DURATION:PT1H
X-Robots-Tag:noindex
X-PUBLISHED-TTL:PT1H
BEGIN:VTIMEZONE
TZID:UTC
BEGIN:STANDARD
TZOFFSETFROM:+0000
TZOFFSETTO:+0000
TZNAME:UTC
DTSTART:20250101T000000
END:STANDARD
END:VTIMEZONE
BEGIN:VEVENT
DTSTART;TZID=UTC:20260419T120000
DTEND;TZID=UTC:20260419T130000
DTSTAMP:20260419T132248
CREATED:20260304T124106Z
LAST-MODIFIED:20260304T124106Z
UID:10956-1776600000-1776603600@www.bonimusik.de
SUMMARY:Mittagsmusik
DESCRIPTION:Dr. Johannes M. Schröder – Orgel
URL:https://www.bonimusik.de/event/mittagsmusik-3/
LOCATION:St. Bonifatius\, Luisenstraße 33\, Wiesbaden\, 65195
CATEGORIES:Liturgie,Mittagsmusik
ORGANIZER;CN="Bonimusik":MAILTO:j.schroeder@bonifatius-wiesbaden.de
END:VEVENT
BEGIN:VEVENT
DTSTART;TZID=UTC:20260419T160000
DTEND;TZID=UTC:20260419T170000
DTSTAMP:20260419T132248
CREATED:20260414T065932Z
LAST-MODIFIED:20260414T065932Z
UID:11015-1776614400-1776618000@www.bonimusik.de
SUMMARY:Olivier Penin
DESCRIPTION:Titularorganist an Sainte-Clotilde\, Paris \nEintritt 10/8 € \nIn allen Veranstaltungen der Internationalen Orgelkonzerte wird der Spieltisch auf eine Leinwand im Kirchenraum übertragen.
URL:https://www.bonimusik.de/event/olivier-penin/
LOCATION:St. Bonifatius\, Luisenstraße 33\, Wiesbaden\, 65195
CATEGORIES:Internationale Orgelkonzerte
ATTACH;FMTTYPE=image/png:https://www.bonimusik.de/wp-content/uploads/2025/09/Logo_internationale_orgelmusik.png
END:VEVENT
BEGIN:VEVENT
DTSTART;TZID=UTC:20260419T190000
DTEND;TZID=UTC:20260419T200000
DTSTAMP:20260419T132248
CREATED:20260320T124234Z
LAST-MODIFIED:20260320T124234Z
UID:10995-1776625200-1776628800@www.bonimusik.de
SUMMARY:Vesper
DESCRIPTION:Vesperschola
URL:https://www.bonimusik.de/event/vesper-7/
LOCATION:St. Bonifatius\, Luisenstraße 33\, Wiesbaden\, 65195
CATEGORIES:Vesper
ORGANIZER;CN="Bonimusik":MAILTO:j.schroeder@bonifatius-wiesbaden.de
END:VEVENT
END:VCALENDAR